BEGIN:VCALENDAR
VERSION:2.0
PRODID:-//dsnmc.org//NONSGML kigkonsult.se iCalcreator 2.30.10//
CALSCALE:GREGORIAN
METHOD:PUBLISH
UID:02f7540c-a363-4f49-809a-d0267df9f245
X-WR-CALDESC:Join DSNMC for the latest installment of our 0-3 Playgroup gat
 hering. This event will take place at the Silver Spring Recreation and Aqu
 atic Center in their indoor playground upstairs. This gathering is informa
 l and meant to provide a fun and welcoming experience for our families to 
 connect and socialize. If you or anyone in your family are feeling ill we 
 kindly ask that you stay home and get better soon.\n\nSaturday\, March 1\,
  2025\n10:00 AM - 12:00 PM -- feel free to come and go at your convenience
 .\n\n\n-- Street parking and public garage parking at the Cameron Street G
 arage are both options and the Silver Spring metro is a 5 minute walk away
 .\n\nWhen registering\, only one ticket per family\; be sure to include a 
 total count of adults and children attending from your family.\n\n_____\n
 \nÚnase a DSNMC para la última edición de nuestro grupo de juego para niño
 s de 0 a 3 años. Este evento se llevará a cabo en Silver Spring. La ubicac
 ión exacta se compartirá con los inscritos.\n\nEste evento se llevará a ca
 bo en el Silver Spring Recreation and Aquatic Center\, en su parque infant
 il cubierto en el segundo piso. Este encuentro es informal y está diseñado
  para brindar una experiencia divertida y acogedora\, permitiendo que nues
 tras familias se conecten y socialicen. Si usted o alguien de su familia n
 o se siente bien\, le pedimos amablemente que se quede en casa y se recupe
 re pronto.\n\nSábado\, 1 de marzo de 2025\n10:00 AM - 12:00 PM — venga y v
 áyase cuando le sea conveniente.\n\nAl registrarse\, solo se necesita un b
 oleto por familia\; asegúrese de incluir el número total de adultos y niño
 s que asistirán.\n\n
X-WR-RELCALID:fd6c22bfcf0ce4b6e93dbf52fe956c2c
X-WR-TIMEZONE:America/New_York
BEGIN:VTIMEZONE
TZID:America/New_York
BEGIN:STANDARD
TZNAME:EST
DTSTART:20241103T020000
TZOFFSETFROM:-0400
TZOFFSETTO:-0500
RDATE:20251102T020000
END:STANDARD
BEGIN:DAYLIGHT
TZNAME:EDT
DTSTART:20240310T020000
TZOFFSETFROM:-0500
TZOFFSETTO:-0400
RDATE:20250309T020000
RDATE:20260308T020000
END:DAYLIGHT
END:VTIMEZONE
BEGIN:VEVENT
UID:81c80351-92a2-473a-99d4-036cf333cad9
DTSTAMP:20260421T095449Z
DESCRIPTION:Join DSNMC for the latest installment of our 0-3 Playgroup gath
 ering. This event will take place at the Silver Spring Recreation and Aqua
 tic Center in their indoor playground upstairs. This gathering is informal
  and meant to provide a fun and welcoming experience for our families to c
 onnect and socialize. If you or anyone in your family are feeling ill we k
 indly ask that you stay home and get better soon.\n\nSaturday\, March 1\, 
 2025\n10:00 AM - 12:00 PM -- feel free to come and go at your convenience.
 \n\n\n-- Street parking and public garage parking at the Cameron Street Ga
 rage are both options and the Silver Spring metro is a 5 minute walk away.
 \n\nWhen registering\, only one ticket per family\; be sure to include a t
 otal count of adults and children attending from your family.\n\n_____\n\n
 Únase a DSNMC para la última edición de nuestro grupo de juego para niños 
 de 0 a 3 años. Este evento se llevará a cabo en Silver Spring. La ubicació
 n exacta se compartirá con los inscritos.\n\nEste evento se llevará a cabo
  en el Silver Spring Recreation and Aquatic Center\, en su parque infantil
  cubierto en el segundo piso. Este encuentro es informal y está diseñado p
 ara brindar una experiencia divertida y acogedora\, permitiendo que nuestr
 as familias se conecten y socialicen. Si usted o alguien de su familia no 
 se siente bien\, le pedimos amablemente que se quede en casa y se recupere
  pronto.\n\nSábado\, 1 de marzo de 2025\n10:00 AM - 12:00 PM — venga y váy
 ase cuando le sea conveniente.\n\nAl registrarse\, solo se necesita un bol
 eto por familia\; asegúrese de incluir el número total de adultos y niños 
 que asistirán.\n\n
DTSTART;TZID=America/New_York:20250301T100000
DTEND;TZID=America/New_York:20250301T120000
LOCATION:Location will be shared the day before.
SUMMARY:DSNMC March 0-3 Playgroup/Grupo de juego de marzo para niños de 0 a
  3 años de DSNMC
END:VEVENT
END:VCALENDAR
