BEGIN:VCALENDAR
VERSION:2.0
PRODID:-//dsnmc.org//NONSGML kigkonsult.se iCalcreator 2.30.10//
CALSCALE:GREGORIAN
METHOD:PUBLISH
UID:73a7531c-898c-49e1-b50b-9a0d8d492357
X-WR-CALDESC:The Annual Convention of the National Down Syndrome Congress w
 ill be held from July 24th-27th\, 2025 in Dallas\, Texas.  This year\, DSN
 MC is planning a group trip to the annual convention for adult self-advoca
 tes interested in attending and participating in the event.\n\nWe will be 
 hosting a virtual information session for self-advocates (21+) and family 
 members to learn more about the trip plans\, conference\, and pre-conferen
 ce responsibilities on Wednesday\, March 5th at 7pm.  If you are unable to
  attend the meeting but would like more information\, please email Nancy F
 orsythe at nancy@dsnmc.org or Jen Emmel at jen@dsnmc.org.\n\nIf you are in
 terested in attending the NDSC annual convention with DSNMC\, please fill 
 out this Google form: https://docs.google.com/forms/d/e/1FAIpQLSedj2RXIHHq
 qg4mFqcu4k_HCCjmB3pydV7DB3kNHcIuxevMcw/viewform to indicate your interest 
 and receive the Zoom link for the information session.  \n\n----\n\nLa Con
 vención Anual del Congreso Nacional del Síndrome de Down se llevará a cabo
  del 24 al 27 de julio de 2025 en Dallas\, Texas. Este año\, DSNMC está pl
 aneando un viaje grupal a la convención anual para autodefensores adultos 
 interesados ​​en asistir y participar en el evento.\n\nOrganizaremos una s
 esión informativa virtual para autodefensores (mayores de 21 años) y famil
 iares para obtener más información sobre los planes del viaje\, la confere
 ncia y las responsabilidades previas a la conferencia el miércoles 5 de ma
 rzo a las 7:00 p. m. Si no puede asistir a la reunión pero desea obtener m
 ás información\, envíe un correo electrónico a Nancy Forsythe a nancy@dsnm
 c.org o a Jen Emmel a jen@dsnmc.org.\n\nSi está interesado en asistir a la
  convención anual de NDSC con DSNMC\, complete este formulario de Google: 
 https://docs.google.com/forms/d/e/1FAIpQLSedj2RXIHHqqg4mFqcu4k_HCCjmB3pydV
 7DB3kNHcIuxevMcw/viewform para indicar su interés y recibir el enlace de Z
 oom para la sesión informativa.
X-WR-RELCALID:14faf9ac084426aa20fddaa7c1647ed3
X-WR-TIMEZONE:America/New_York
BEGIN:VTIMEZONE
TZID:America/New_York
BEGIN:STANDARD
TZNAME:EST
DTSTART:20241103T020000
TZOFFSETFROM:-0400
TZOFFSETTO:-0500
RDATE:20251102T020000
END:STANDARD
BEGIN:DAYLIGHT
TZNAME:EDT
DTSTART:20240310T020000
TZOFFSETFROM:-0500
TZOFFSETTO:-0400
RDATE:20250309T020000
RDATE:20260308T020000
END:DAYLIGHT
END:VTIMEZONE
BEGIN:VEVENT
UID:202c5686-b18f-4673-975c-831f97aa6722
DTSTAMP:20260421T094611Z
DESCRIPTION:The Annual Convention of the National Down Syndrome Congress wi
 ll be held from July 24th-27th\, 2025 in Dallas\, Texas.  This year\, DSNM
 C is planning a group trip to the annual convention for adult self-advocat
 es interested in attending and participating in the event.\n\nWe will be h
 osting a virtual information session for self-advocates (21+) and family m
 embers to learn more about the trip plans\, conference\, and pre-conferenc
 e responsibilities on Wednesday\, March 5th at 7pm.  If you are unable to 
 attend the meeting but would like more information\, please email Nancy Fo
 rsythe at nancy@dsnmc.org or Jen Emmel at jen@dsnmc.org.\n\nIf you are int
 erested in attending the NDSC annual convention with DSNMC\, please fill o
 ut this Google form: https://docs.google.com/forms/d/e/1FAIpQLSedj2RXIHHqq
 g4mFqcu4k_HCCjmB3pydV7DB3kNHcIuxevMcw/viewform to indicate your interest a
 nd receive the Zoom link for the information session.  \n\n----\n\nLa Conv
 ención Anual del Congreso Nacional del Síndrome de Down se llevará a cabo 
 del 24 al 27 de julio de 2025 en Dallas\, Texas. Este año\, DSNMC está pla
 neando un viaje grupal a la convención anual para autodefensores adultos i
 nteresados ​​en asistir y participar en el evento.\n\nOrganizaremos una se
 sión informativa virtual para autodefensores (mayores de 21 años) y famili
 ares para obtener más información sobre los planes del viaje\, la conferen
 cia y las responsabilidades previas a la conferencia el miércoles 5 de mar
 zo a las 7:00 p. m. Si no puede asistir a la reunión pero desea obtener má
 s información\, envíe un correo electrónico a Nancy Forsythe a nancy@dsnmc
 .org o a Jen Emmel a jen@dsnmc.org.\n\nSi está interesado en asistir a la 
 convención anual de NDSC con DSNMC\, complete este formulario de Google: h
 ttps://docs.google.com/forms/d/e/1FAIpQLSedj2RXIHHqqg4mFqcu4k_HCCjmB3pydV7
 DB3kNHcIuxevMcw/viewform para indicar su interés y recibir el enlace de Zo
 om para la sesión informativa.
DTSTART;TZID=America/New_York:20250305T190000
DTEND;TZID=America/New_York:20250305T200000
LOCATION:Virtual | Zoom
SUMMARY:NDSC Self-Advocate Trip Interest Meeting
END:VEVENT
END:VCALENDAR
