BEGIN:VCALENDAR
VERSION:2.0
PRODID:-//dsnmc.org//NONSGML kigkonsult.se iCalcreator 2.30.10//
CALSCALE:GREGORIAN
METHOD:PUBLISH
UID:39ed7275-0bd3-432f-81be-f6e094c892af
X-WR-CALDESC:THIS EVENT HAS BEEN RESCHEDULED FOR FRIDAY\, MARCH 7th\, AT TH
 E RIVER ROAD UNITARIAN UNIVERSALIST CONGREGATION IN BETHESDA\n\nIf you pre
 viously registered\, you do not need to re-register. If you are unable to 
 attend the new date\, fill out this form by March 1st: https://forms.gle/N
 XGjMtgAEeQW4Jby5\n\nJoin us as we kick off DSNMC's World Down Syndrome Day
  celebration with our 2025 Winter Dance! Our theme this year is Rock Your 
 Socks Off Sock Hop! We'll be twisting the night away with music\, food\, a
  raffle\, and silent auction! The weeks ahead will be filled with opportun
 ities to connect with the Ds community while also sharing our stories with
  our friends and neighbors. Register today and be a part of our annual kic
 k-off event! Volunteer\, donation and sponsorship opportunities available!
 \n\nWhen: Friday\, March 7\, 6:00 to 8:30 PM\nWhere: River Road Unitarian 
 Universalist Congregation\, 6301 River Road (entrance on Whittier Blvd)\, 
 Bethesda\, MD 20817\nWhat: Dancing (with DJ Anderson!)\, dinner\, raffle a
 nd silent auction -- fun for everyone!\nWhy: To have fun while celebrating
  the Down syndrome community!\n\nAdmission: don't delay\, get your tickets
  today!\n$10 - 13 years old and up\n$5 - 5 to 12 years old\n$0 - Kids unde
 r 5\nNew Option! Pay-at-door tickets are available for those who prefer to
  pay cash. Please still register in advance so that we can order enough fo
 od for everyone.\n\nIf you would like to attend but need assistance with t
 he admission fees\, please contact Matt at programs-events@dsnmc.org to re
 ceive a scholarship code.\n\nRaffle: grab tickets for your chance to win p
 rize baskets and other great items! Sign-up to donate items -- gift certif
 icates\, themed baskets\, tickets\, memorabilia\, services\, etc. -- help 
 us make the raffle a success!\n$5 - one raffle ticket\n$20 - five raffle t
 ickets (for the price of four!)\n$50 - fifteen raffle tickets (for the pri
 ce of ten!)\n\nMismatched Socks Sale: Show your support for the Down syndr
 ome community with our WDSD mismatched socks! Available for presale and pi
 ck-up at the dance with a limited number of socks available for purchase o
 nsite.\n$3 - Mismatched Socks - Youth (Ages 4-7)\n$3 - Mismatched Socks - 
 Youth (Ages 8-12)\n$3 - Mismatched Socks - Adult\n\nSponsor our Dance! Bec
 ome a Sponsor Circle Supporter and help make this year's World Down Syndro
 me Day Celebrations the best ever. Sponsors receive a private table for si
 x and acknowledgement as an event sponsor. Limited availability!\n$321 - S
 ponsor Circle Supporter\n\nVolunteers Needed!\nWe can't do it without you!
  Visit our SignUpGenius to pick a volunteer role that works for you: https
 ://www.signupgenius.com/go/4090E4EAEAB2CA2F58-54370514-2025#/\n\nSock Driv
 e: bring a pair of new socks to donate to our sock drive. Once again we wi
 ll be collecting new pairs of socks to donate within our greater Montgomer
 y County community as an act of support and compassion for our neighbors i
 n need. Anyone wishing to donate a pair of new socks can drop them off at 
 registration when arriving at the dance.\n\n---------------\n\nESTE EVENTO
  HA SIDO REPROGRAMADO PARA EL VIERNES 7 DE MARZO EN LA CONGREGACIÓN UNITAR
 IAN UNIVERSALIST DE RIVER ROAD EN BETHESDA\n\nSi ya se registró\, no neces
 ita volver a registrarse. Si no puede asistir en la nueva fecha\, complete
  este formulario antes del 1 de marzo: https://forms.gle/NXGjMtgAEeQW4Jby5
 \n\n¡Únase a nosotros para dar inicio a la celebración del Día Mundial del
  Síndrome de Down de DSNMC con nuestro Baile de Invierno 2025! ¡Nuestro te
 ma este año es Rock Your Socks Off Sock Hop! ¡Estaremos bailando toda la n
 oche con música\, comida\, una rifa y una subasta silenciosa! Las próximas
  semanas estarán llenas de oportunidades para conectarse con la comunidad 
 del síndrome de Down y\, al mismo tiempo\, compartir nuestras historias co
 n nuestros amigos y vecinos. ¡Regístrese hoy y sea parte de nuestro evento
  de lanzamiento anual! ¡Oportunidades de voluntariado\, donación y patroci
 nio disponibles!\n\nEspañol:Cuándo: viernes 7 de marzo\, de 6:00 a 8:30 p.
  m.\nDónde: River Road Unitarian Universalist Congregation\, 6301 River Ro
 ad (entrada en Whittier Blvd)\, Bethesda\, MD 20817\nQué: baile (¡con DJ A
 nderson!)\, cena\, rifa y subasta silenciosa: ¡diversión para todos!\nPor 
 qué: ¡Para divertirse mientras celebramos a la comunidad del síndrome de D
 own!\n\nEntrada: ¡no se demore\, compre sus boletos hoy!\n$10 - 13 años en
  adelante\n$5 - 5 a 12 años\n$0 - Niños menores de 5 años\n¡Nueva opción! 
 Hay boletos para pagar en la puerta disponibles para aquellos que prefiere
 n pagar en efectivo. Regístrese con anticipación para que podamos pedir su
 ficiente comida para todos.\n\nSi desea asistir pero necesita ayuda con la
 s tarifas de admisión\, comuníquese con Matt a programs-events@dsnmc.org p
 ara recibir un código de beca.\n\nRifa: ¡Compre boletos para tener la opor
 tunidad de ganar canastas de premios y otros artículos geniales! Inscríbas
 e para donar artículos (certificados de regalo\, canastas temáticas\, bole
 tos\, recuerdos\, servicios\, etc.) ¡Ayúdenos a hacer que la rifa sea un é
 xito!\n$5 - un boleto de rifa\n$20 - cinco boletos de rifa (¡por el precio
  de cuatro!)\n$50 - quince boletos de rifa (¡por el precio de diez!)\n\nVe
 nta de calcetines desiguales: ¡Muestre su apoyo a la comunidad del síndrom
 e de Down con nuestros calcetines desiguales de WDSD! Disponibles para pre
 venta y retiro en el baile con una cantidad limitada de calcetines disponi
 bles para comprar en el lugar.\n$3 - Calcetines desiguales - Jóvenes (edad
 es 4-7)\n$3 - Calcetines desiguales - Jóvenes (edades 8-12)\n$3 - Calcetin
 es desiguales - Adultos\n\n¡Patrocine nuestro baile! Conviértase en un par
 tidario de Sponsor Circle y ayude a que las celebraciones del Día Mundial 
 del Síndrome de Down de este año sean las mejores de todas. Los patrocinad
 ores reciben una mesa privada para seis y reconocimiento como patrocinador
  del evento. ¡Disponibilidad limitada!\n$321 - Patrocinador de Circle Supp
 orter\n\n¡Se necesitan voluntarios!\n¡No podemos hacerlo sin ti! Visita nu
 estro SignUpGenius para elegir un rol de voluntario que funcione para ti: 
 https://www.signupgenius.com/go/4090E4EAEAB2CA2F58-54370514-2025#/\n\nReco
 lección de calcetines: trae un par de calcetines nuevos para donarlos a nu
 estra campaña de recolección de calcetines. Una vez más\, recolectaremos p
 ares de calcetines nuevos para donarlos dentro de nuestra comunidad del co
 ndado de Montgomery como un acto de apoyo y compasión para nuestros vecino
 s necesitados. Cualquiera que desee donar un par de calcetines nuevos pued
 e dejarlos en el registro al llegar al baile.
X-WR-RELCALID:38dab99de2a27f321974be38b16f3a06
X-WR-TIMEZONE:America/New_York
BEGIN:VTIMEZONE
TZID:America/New_York
BEGIN:STANDARD
TZNAME:EST
DTSTART:20241103T020000
TZOFFSETFROM:-0400
TZOFFSETTO:-0500
RDATE:20251102T020000
END:STANDARD
BEGIN:DAYLIGHT
TZNAME:EDT
DTSTART:20240310T020000
TZOFFSETFROM:-0500
TZOFFSETTO:-0400
RDATE:20250309T020000
RDATE:20260308T020000
END:DAYLIGHT
END:VTIMEZONE
BEGIN:VEVENT
UID:0b96aebe-e6a3-4387-8c61-cfedc826b32b
DTSTAMP:20260421T095528Z
DESCRIPTION:THIS EVENT HAS BEEN RESCHEDULED FOR FRIDAY\, MARCH 7th\, AT THE
  RIVER ROAD UNITARIAN UNIVERSALIST CONGREGATION IN BETHESDA\n\nIf you prev
 iously registered\, you do not need to re-register. If you are unable to a
 ttend the new date\, fill out this form by March 1st: https://forms.gle/NX
 GjMtgAEeQW4Jby5\n\nJoin us as we kick off DSNMC's World Down Syndrome Day 
 celebration with our 2025 Winter Dance! Our theme this year is Rock Your S
 ocks Off Sock Hop! We'll be twisting the night away with music\, food\, a 
 raffle\, and silent auction! The weeks ahead will be filled with opportuni
 ties to connect with the Ds community while also sharing our stories with 
 our friends and neighbors. Register today and be a part of our annual kick
 -off event! Volunteer\, donation and sponsorship opportunities available!
 \n\nWhen: Friday\, March 7\, 6:00 to 8:30 PM\nWhere: River Road Unitarian 
 Universalist Congregation\, 6301 River Road (entrance on Whittier Blvd)\, 
 Bethesda\, MD 20817\nWhat: Dancing (with DJ Anderson!)\, dinner\, raffle a
 nd silent auction -- fun for everyone!\nWhy: To have fun while celebrating
  the Down syndrome community!\n\nAdmission: don't delay\, get your tickets
  today!\n$10 - 13 years old and up\n$5 - 5 to 12 years old\n$0 - Kids unde
 r 5\nNew Option! Pay-at-door tickets are available for those who prefer to
  pay cash. Please still register in advance so that we can order enough fo
 od for everyone.\n\nIf you would like to attend but need assistance with t
 he admission fees\, please contact Matt at programs-events@dsnmc.org to re
 ceive a scholarship code.\n\nRaffle: grab tickets for your chance to win p
 rize baskets and other great items! Sign-up to donate items -- gift certif
 icates\, themed baskets\, tickets\, memorabilia\, services\, etc. -- help 
 us make the raffle a success!\n$5 - one raffle ticket\n$20 - five raffle t
 ickets (for the price of four!)\n$50 - fifteen raffle tickets (for the pri
 ce of ten!)\n\nMismatched Socks Sale: Show your support for the Down syndr
 ome community with our WDSD mismatched socks! Available for presale and pi
 ck-up at the dance with a limited number of socks available for purchase o
 nsite.\n$3 - Mismatched Socks - Youth (Ages 4-7)\n$3 - Mismatched Socks - 
 Youth (Ages 8-12)\n$3 - Mismatched Socks - Adult\n\nSponsor our Dance! Bec
 ome a Sponsor Circle Supporter and help make this year's World Down Syndro
 me Day Celebrations the best ever. Sponsors receive a private table for si
 x and acknowledgement as an event sponsor. Limited availability!\n$321 - S
 ponsor Circle Supporter\n\nVolunteers Needed!\nWe can't do it without you!
  Visit our SignUpGenius to pick a volunteer role that works for you: https
 ://www.signupgenius.com/go/4090E4EAEAB2CA2F58-54370514-2025#/\n\nSock Driv
 e: bring a pair of new socks to donate to our sock drive. Once again we wi
 ll be collecting new pairs of socks to donate within our greater Montgomer
 y County community as an act of support and compassion for our neighbors i
 n need. Anyone wishing to donate a pair of new socks can drop them off at 
 registration when arriving at the dance.\n\n---------------\n\nESTE EVENTO
  HA SIDO REPROGRAMADO PARA EL VIERNES 7 DE MARZO EN LA CONGREGACIÓN UNITAR
 IAN UNIVERSALIST DE RIVER ROAD EN BETHESDA\n\nSi ya se registró\, no neces
 ita volver a registrarse. Si no puede asistir en la nueva fecha\, complete
  este formulario antes del 1 de marzo: https://forms.gle/NXGjMtgAEeQW4Jby5
 \n\n¡Únase a nosotros para dar inicio a la celebración del Día Mundial del
  Síndrome de Down de DSNMC con nuestro Baile de Invierno 2025! ¡Nuestro te
 ma este año es Rock Your Socks Off Sock Hop! ¡Estaremos bailando toda la n
 oche con música\, comida\, una rifa y una subasta silenciosa! Las próximas
  semanas estarán llenas de oportunidades para conectarse con la comunidad 
 del síndrome de Down y\, al mismo tiempo\, compartir nuestras historias co
 n nuestros amigos y vecinos. ¡Regístrese hoy y sea parte de nuestro evento
  de lanzamiento anual! ¡Oportunidades de voluntariado\, donación y patroci
 nio disponibles!\n\nEspañol:Cuándo: viernes 7 de marzo\, de 6:00 a 8:30 p.
  m.\nDónde: River Road Unitarian Universalist Congregation\, 6301 River Ro
 ad (entrada en Whittier Blvd)\, Bethesda\, MD 20817\nQué: baile (¡con DJ A
 nderson!)\, cena\, rifa y subasta silenciosa: ¡diversión para todos!\nPor 
 qué: ¡Para divertirse mientras celebramos a la comunidad del síndrome de D
 own!\n\nEntrada: ¡no se demore\, compre sus boletos hoy!\n$10 - 13 años en
  adelante\n$5 - 5 a 12 años\n$0 - Niños menores de 5 años\n¡Nueva opción! 
 Hay boletos para pagar en la puerta disponibles para aquellos que prefiere
 n pagar en efectivo. Regístrese con anticipación para que podamos pedir su
 ficiente comida para todos.\n\nSi desea asistir pero necesita ayuda con la
 s tarifas de admisión\, comuníquese con Matt a programs-events@dsnmc.org p
 ara recibir un código de beca.\n\nRifa: ¡Compre boletos para tener la opor
 tunidad de ganar canastas de premios y otros artículos geniales! Inscríbas
 e para donar artículos (certificados de regalo\, canastas temáticas\, bole
 tos\, recuerdos\, servicios\, etc.) ¡Ayúdenos a hacer que la rifa sea un é
 xito!\n$5 - un boleto de rifa\n$20 - cinco boletos de rifa (¡por el precio
  de cuatro!)\n$50 - quince boletos de rifa (¡por el precio de diez!)\n\nVe
 nta de calcetines desiguales: ¡Muestre su apoyo a la comunidad del síndrom
 e de Down con nuestros calcetines desiguales de WDSD! Disponibles para pre
 venta y retiro en el baile con una cantidad limitada de calcetines disponi
 bles para comprar en el lugar.\n$3 - Calcetines desiguales - Jóvenes (edad
 es 4-7)\n$3 - Calcetines desiguales - Jóvenes (edades 8-12)\n$3 - Calcetin
 es desiguales - Adultos\n\n¡Patrocine nuestro baile! Conviértase en un par
 tidario de Sponsor Circle y ayude a que las celebraciones del Día Mundial 
 del Síndrome de Down de este año sean las mejores de todas. Los patrocinad
 ores reciben una mesa privada para seis y reconocimiento como patrocinador
  del evento. ¡Disponibilidad limitada!\n$321 - Patrocinador de Circle Supp
 orter\n\n¡Se necesitan voluntarios!\n¡No podemos hacerlo sin ti! Visita nu
 estro SignUpGenius para elegir un rol de voluntario que funcione para ti: 
 https://www.signupgenius.com/go/4090E4EAEAB2CA2F58-54370514-2025#/\n\nReco
 lección de calcetines: trae un par de calcetines nuevos para donarlos a nu
 estra campaña de recolección de calcetines. Una vez más\, recolectaremos p
 ares de calcetines nuevos para donarlos dentro de nuestra comunidad del co
 ndado de Montgomery como un acto de apoyo y compasión para nuestros vecino
 s necesitados. Cualquiera que desee donar un par de calcetines nuevos pued
 e dejarlos en el registro al llegar al baile.
DTSTART;TZID=America/New_York:20250307T180000
DTEND;TZID=America/New_York:20250307T203000
LOCATION:6301 River Road\, Bethesda\, MD 20817 US
SUMMARY:Rescheduled! Rock Your Socks 2025 Winter Dance/Rock Your Socks 2025
  Baile de invierno
END:VEVENT
END:VCALENDAR
