BEGIN:VCALENDAR
VERSION:2.0
PRODID:-//dsnmc.org//NONSGML kigkonsult.se iCalcreator 2.30.10//
CALSCALE:GREGORIAN
METHOD:PUBLISH
UID:62022d67-8969-46d3-924f-218a37dd2a0b
X-WR-CALDESC:This committee will discuss goals\, objectives and strategies 
 to support the needs of our transitioning youth families.\n\n
X-WR-RELCALID:0db4b464bfdb7afd6ad0a1d0acee56be
X-WR-TIMEZONE:America/New_York
BEGIN:VTIMEZONE
TZID:America/New_York
BEGIN:STANDARD
TZNAME:EST
DTSTART:20241103T020000
TZOFFSETFROM:-0400
TZOFFSETTO:-0500
RDATE:20251102T020000
END:STANDARD
BEGIN:DAYLIGHT
TZNAME:EDT
DTSTART:20250309T020000
TZOFFSETFROM:-0500
TZOFFSETTO:-0400
RDATE:20260308T020000
END:DAYLIGHT
END:VTIMEZONE
BEGIN:VEVENT
UID:db1c669b-cd07-486b-866d-40913e52bc59
DTSTAMP:20260423T100613Z
DESCRIPTION:This committee will discuss goals\, objectives and strategies t
 o support the needs of our transitioning youth families.\n\n
DTSTART;TZID=America/New_York:20250311T193000
DTEND;TZID=America/New_York:20250311T203000
LOCATION:
SUMMARY:Transitioning Youth and Adult Committee
END:VEVENT
END:VCALENDAR
