BEGIN:VCALENDAR
VERSION:2.0
PRODID:-//dsnmc.org//NONSGML kigkonsult.se iCalcreator 2.30.10//
CALSCALE:GREGORIAN
METHOD:PUBLISH
UID:eacaabed-f3c5-4558-9789-8fbb91bd3bb2
X-WR-CALDESC:The DSNMC New Family Outreach Committee is dedicated to making
  a first connection with families who have recently received a Down syndro
 me diagnosis. Through our First Call program\, monthly playdates and conne
 cting with medical professionals in the area we are hoping to create a mor
 e supportive transition into the Down syndrome community. If you are inter
 ested in being part of the New Family Outreach Committee\, please contact 
 Kristi Maeng at newfamilies@dsnmc.org.
X-WR-RELCALID:1b85cc54f8e593142db7fc27f3f4d572
X-WR-TIMEZONE:America/New_York
BEGIN:VTIMEZONE
TZID:America/New_York
BEGIN:STANDARD
TZNAME:EST
DTSTART:20241103T020000
TZOFFSETFROM:-0400
TZOFFSETTO:-0500
RDATE:20251102T020000
END:STANDARD
BEGIN:DAYLIGHT
TZNAME:EDT
DTSTART:20250309T020000
TZOFFSETFROM:-0500
TZOFFSETTO:-0400
RDATE:20260308T020000
END:DAYLIGHT
END:VTIMEZONE
BEGIN:VEVENT
UID:83c98d42-7e3f-4e0b-88d7-8d8b2098c402
DTSTAMP:20260421T095147Z
DESCRIPTION:The DSNMC New Family Outreach Committee is dedicated to making 
 a first connection with families who have recently received a Down syndrom
 e diagnosis. Through our First Call program\, monthly playdates and connec
 ting with medical professionals in the area we are hoping to create a more
  supportive transition into the Down syndrome community. If you are intere
 sted in being part of the New Family Outreach Committee\, please contact K
 risti Maeng at newfamilies@dsnmc.org.
DTSTART;TZID=America/New_York:20250312T203000
DTEND;TZID=America/New_York:20250312T220000
LOCATION:
SUMMARY:New Family Outreach Committee
END:VEVENT
END:VCALENDAR
