BEGIN:VCALENDAR
VERSION:2.0
PRODID:-//dsnmc.org//NONSGML kigkonsult.se iCalcreator 2.30.10//
CALSCALE:GREGORIAN
METHOD:PUBLISH
UID:0941cb5d-bc14-4f00-a804-4cebe44155ad
X-WR-CALDESC:An Inclusive Community Walk at Brookside Gardens/Una Caminata 
 Comunitaria Inclusiva en Brookside Gardens\nJoin DSNMC for an inclusive co
 mmunity walk at the Brookside Gardens’ Heart Smart Trail! This event is de
 signed for individuals with Down syndrome\, their families\, caregivers\, 
 and community members to come together and experience the benefits of move
 ment\, mindfulness\, and nature.\n\nThis one-mile\, fully accessible trail
  walk will incorporate interactive engagement points\, a fun trail scaveng
 er hunt\, and built-in rest stops to encourage a comfortable and enjoyable
  experience for all abilities.\n\nAt the end of the walk\, we will introdu
 ce key tools from the Inclusive Outdoor Engagement Toolkit\, helping parti
 cipants plan their next outdoor adventure! This includes setting personali
 zed movement goals\, tracking progress\, and learning how to find accessib
 le outdoor spaces.\n\nThis is a free event\, but registrations is required
  to ensure we have enough materials and refreshments.\n\n____\n\n¡Únete a 
 DSNMC para una caminata comunitaria inclusiva en el sendero Heart Smart de
  Brookside Gardens! Este evento está diseñado para personas con síndrome d
 e Down\, sus familias\, cuidadores y miembros de la comunidad\, para que s
 e reúnan y disfruten de los beneficios del movimiento\, la atención plena 
 y la naturaleza.\n\nEsta caminata de una milla\, completamente accesible\,
  incluirá puntos de participación interactivos\, una divertida búsqueda de
 l tesoro en el sendero y paradas de descanso integradas para fomentar una 
 experiencia cómoda y agradable para personas de todas las habilidades.\n\n
 Al final de la caminata\, presentaremos herramientas clave del Inclusive O
 utdoor Engagement Toolkit\, que ayudarán a los participantes a planear su 
 próxima aventura al aire libre. Esto incluye establecer metas de movimient
 o personalizadas\, hacer seguimiento del progreso y aprender cómo encontra
 r espacios al aire libre accesibles.\n\nEste es un evento gratuito\, pero 
 se requiere inscripción para asegurarnos de contar con suficientes materia
 les y refrigerios.
X-WR-RELCALID:ae9a557ce8615ca5d9a822d842808da3
X-WR-TIMEZONE:America/New_York
BEGIN:VTIMEZONE
TZID:America/New_York
BEGIN:STANDARD
TZNAME:EST
DTSTART:20241103T020000
TZOFFSETFROM:-0400
TZOFFSETTO:-0500
RDATE:20251102T020000
END:STANDARD
BEGIN:DAYLIGHT
TZNAME:EDT
DTSTART:20250309T020000
TZOFFSETFROM:-0500
TZOFFSETTO:-0400
RDATE:20260308T020000
END:DAYLIGHT
END:VTIMEZONE
BEGIN:VEVENT
UID:e6e87651-5c64-4ce4-b03f-e968511f5ec9
DTSTAMP:20260421T084041Z
DESCRIPTION:An Inclusive Community Walk at Brookside Gardens/Una Caminata C
 omunitaria Inclusiva en Brookside Gardens\nJoin DSNMC for an inclusive com
 munity walk at the Brookside Gardens’ Heart Smart Trail! This event is des
 igned for individuals with Down syndrome\, their families\, caregivers\, a
 nd community members to come together and experience the benefits of movem
 ent\, mindfulness\, and nature.\n\nThis one-mile\, fully accessible trail 
 walk will incorporate interactive engagement points\, a fun trail scavenge
 r hunt\, and built-in rest stops to encourage a comfortable and enjoyable 
 experience for all abilities.\n\nAt the end of the walk\, we will introduc
 e key tools from the Inclusive Outdoor Engagement Toolkit\, helping partic
 ipants plan their next outdoor adventure! This includes setting personaliz
 ed movement goals\, tracking progress\, and learning how to find accessibl
 e outdoor spaces.\n\nThis is a free event\, but registrations is required 
 to ensure we have enough materials and refreshments.\n\n____\n\n¡Únete a D
 SNMC para una caminata comunitaria inclusiva en el sendero Heart Smart de 
 Brookside Gardens! Este evento está diseñado para personas con síndrome de
  Down\, sus familias\, cuidadores y miembros de la comunidad\, para que se
  reúnan y disfruten de los beneficios del movimiento\, la atención plena y
  la naturaleza.\n\nEsta caminata de una milla\, completamente accesible\, 
 incluirá puntos de participación interactivos\, una divertida búsqueda del
  tesoro en el sendero y paradas de descanso integradas para fomentar una e
 xperiencia cómoda y agradable para personas de todas las habilidades.\n\nA
 l final de la caminata\, presentaremos herramientas clave del Inclusive Ou
 tdoor Engagement Toolkit\, que ayudarán a los participantes a planear su p
 róxima aventura al aire libre. Esto incluye establecer metas de movimiento
  personalizadas\, hacer seguimiento del progreso y aprender cómo encontrar
  espacios al aire libre accesibles.\n\nEste es un evento gratuito\, pero s
 e requiere inscripción para asegurarnos de contar con suficientes material
 es y refrigerios.
DTSTART;TZID=America/New_York:20250405T133000
DTEND;TZID=America/New_York:20250405T153000
LOCATION:1800 Glenallan Ave\, Wheaton-Glenmont\, MD 20902 US
SUMMARY:Spring Into Wellness: Celebrate Movement & Nature/Primavera en Bien
 estar: ¡Celebra el Movimiento y la Naturaleza!
END:VEVENT
END:VCALENDAR
