BEGIN:VCALENDAR
VERSION:2.0
PRODID:-//dsnmc.org//NONSGML kigkonsult.se iCalcreator 2.30.10//
CALSCALE:GREGORIAN
METHOD:PUBLISH
UID:4a9a1c42-ecf8-41d0-a75a-70cfeb7193b2
X-WR-CALDESC:Join DSNMC for the April Playgroup for families with children 
 0-3 years of age/Únase a DSNMC para el grupo de juego de abril para famili
 as con niños de 0 a 3 años.\nJoin DSNMC for the latest installment of our 
 0-3 Playgroup gathering. This event will take place at a private home in S
 ilver Spring -- address to be shared the day before. This gathering is inf
 ormal and meant to provide a fun and welcoming experience for our families
  to connect and socialize. Please note this location is home to both a cat
  and a dog\, though both will be isolated away from attendees for the dura
 tion of the event. If you or anyone in your family are feeling ill we kind
 ly ask that you stay home to recuperate and join us next month when you're
  well again.\n\nSunday\, April 6\n10:00 AM - 12:00 PM -- feel free to come
  and go at your convenience.\n\nWhen registering\, only one ticket per fam
 ily\; be sure to include a total count of adults and children attending fr
 om your family.\n\n_____\n\nÚnase a DSNMC para la próxima reunión de nuest
 ro grupo de juego para niños de 0 a 3 años. Este evento se llevará a cabo 
 en una casa privada en Silver Spring\; la dirección se compartirá el día a
 nterior.Esta reunión es informal y está diseñada para ofrecer un ambiente 
 divertido y acogedor donde las familias puedan conectarse y socializar. Te
 nga en cuenta que en esta casa viven un gato y un perro\, aunque ambos est
 arán en un área separada durante el evento. Si usted o alguien de su famil
 ia se siente enfermo\, le pedimos amablemente que permanezca en casa para 
 recuperarse y nos acompañe el próximo mes cuando se sienta mejor.\n\nDomin
 go 6 de abril\n10:00 AM - 12:00 PM. Puede llegar y salir en el horario que
  le sea conveniente.\n\nAl registrarse\, solo se requiere un boleto por fa
 milia. Asegúrese de incluir el número total de adultos y niños que asistir
 án.
X-WR-RELCALID:f3888c7428808198673d19560dee6175
X-WR-TIMEZONE:America/New_York
BEGIN:VTIMEZONE
TZID:America/New_York
BEGIN:STANDARD
TZNAME:EST
DTSTART:20241103T020000
TZOFFSETFROM:-0400
TZOFFSETTO:-0500
RDATE:20251102T020000
END:STANDARD
BEGIN:DAYLIGHT
TZNAME:EDT
DTSTART:20250309T020000
TZOFFSETFROM:-0500
TZOFFSETTO:-0400
RDATE:20260308T020000
END:DAYLIGHT
END:VTIMEZONE
BEGIN:VEVENT
UID:a144aab7-bd30-4ab8-89d8-9bb33d71c71d
DTSTAMP:20260421T083210Z
DESCRIPTION:Join DSNMC for the April Playgroup for families with children 0
 -3 years of age/Únase a DSNMC para el grupo de juego de abril para familia
 s con niños de 0 a 3 años.\nJoin DSNMC for the latest installment of our 0
 -3 Playgroup gathering. This event will take place at a private home in Si
 lver Spring -- address to be shared the day before. This gathering is info
 rmal and meant to provide a fun and welcoming experience for our families 
 to connect and socialize. Please note this location is home to both a cat 
 and a dog\, though both will be isolated away from attendees for the durat
 ion of the event. If you or anyone in your family are feeling ill we kindl
 y ask that you stay home to recuperate and join us next month when you're 
 well again.\n\nSunday\, April 6\n10:00 AM - 12:00 PM -- feel free to come 
 and go at your convenience.\n\nWhen registering\, only one ticket per fami
 ly\; be sure to include a total count of adults and children attending fro
 m your family.\n\n_____\n\nÚnase a DSNMC para la próxima reunión de nuestr
 o grupo de juego para niños de 0 a 3 años. Este evento se llevará a cabo e
 n una casa privada en Silver Spring\; la dirección se compartirá el día an
 terior.Esta reunión es informal y está diseñada para ofrecer un ambiente d
 ivertido y acogedor donde las familias puedan conectarse y socializar. Ten
 ga en cuenta que en esta casa viven un gato y un perro\, aunque ambos esta
 rán en un área separada durante el evento. Si usted o alguien de su famili
 a se siente enfermo\, le pedimos amablemente que permanezca en casa para r
 ecuperarse y nos acompañe el próximo mes cuando se sienta mejor.\n\nDoming
 o 6 de abril\n10:00 AM - 12:00 PM. Puede llegar y salir en el horario que 
 le sea conveniente.\n\nAl registrarse\, solo se requiere un boleto por fam
 ilia. Asegúrese de incluir el número total de adultos y niños que asistirá
 n.
DTSTART;TZID=America/New_York:20250406T100000
DTEND;TZID=America/New_York:20250406T120000
LOCATION:Private Home in Silver Spring: TBA Silver Spring\, MD 20902
SUMMARY:DSNMC April 0-3 Playgroup
END:VEVENT
END:VCALENDAR
