BEGIN:VCALENDAR
VERSION:2.0
PRODID:-//dsnmc.org//NONSGML kigkonsult.se iCalcreator 2.30.10//
CALSCALE:GREGORIAN
METHOD:PUBLISH
UID:009ce15e-29e3-441a-8586-1b06bc9908a9
X-WR-CALDESC:aking Self-Directed Services Work: Real Stories\, Real Strateg
 ies for Families Supporting Loved Ones with Down Syndrome --- Haciendo que
  los Servicios Autodirigidos Funcionen: Historias Reales y Estrategias Rea
 les para Familias que Apoyan a Seres Queridos con Síndrome de Down\n\nSelf
 -directed services give individuals with intellectual and developmental di
 sabilities and their families more choice and control over the support the
 y receive. But navigating the system—especially in Maryland—can feel overw
 helming and confusing.\n\nJoin DSNMC and DSAmd for a 90-minute webinar foc
 used on how families supporting individuals with Down syndrome are using s
 elf-directed services to meet their loved ones’ unique needs across areas 
 like employment\, post-secondary education\, independent living\, and medi
 cal care.\n\nThis session will feature:\n\nA brief presentation by a repre
 sentative from Maryland’s Developmental Disabilities Administration (DDA) 
 providing an overview of the self-directed service model.\nA panel of pare
 nts and caregivers from our own community sharing their lived experiences 
 using self-directed services.\nTime for Q&A\, with opportunities to ask qu
 estions in advance or during the session.\nWhether you’re just starting to
  consider self-directed options or are looking for ideas to make the most 
 of your existing plan\, this webinar will provide practical insights\, ins
 piration\, and resources.\n----------\nLos servicios autodirigidos ofrecen
  a las personas con discapacidades intelectuales y del desarrollo\, y a su
 s familias\, más opciones y control sobre el apoyo que reciben. Sin embarg
 o\, navegar el sistema—especialmente en Maryland—puede resultar abrumador 
 y confuso.\n\nÚnase a DSNMC y DSAmd en un seminario web de 90 minutos enfo
 cado en cómo las familias que apoyan a personas con síndrome de Down están
  utilizando los servicios autodirigidos para satisfacer las necesidades ún
 icas de sus seres queridos en áreas como el empleo\, la educación postsecu
 ndaria\, la vida independiente y la atención médica.\n\nEsta sesión inclui
 rá:\n\nUna breve presentación a cargo de un representante de la Administra
 ción de Discapacidades del Desarrollo (DDA) de Maryland\, quien ofrecerá u
 na visión general del modelo de servicios autodirigidos.\nUn panel de padr
 es y cuidadores de nuestra propia comunidad que compartirán sus experienci
 as personales utilizando servicios autodirigidos.\nTiempo para preguntas y
  respuestas\, con la oportunidad de enviar preguntas por adelantado o dura
 nte la sesión.\nYa sea que esté empezando a considerar las opciones autodi
 rigidas o buscando ideas para aprovechar al máximo su plan actual\, este s
 eminario web le brindará ideas prácticas\, inspiración y recursos.\n\nSi n
 ecesita traducción al español\, debe registrarse antes del 24 de abril e i
 ndicar su solicitud al momento de registrarse.\n\nSi necesita ayuda para r
 egistrarse en este evento\, no dude en contactar a Thelma o Isabel a estos
  correos: thelma@dsnmc.org o isabel@dsnmc.org
X-WR-RELCALID:1f1575d3ead99845ff594acea497a808
X-WR-TIMEZONE:America/New_York
BEGIN:VTIMEZONE
TZID:America/New_York
BEGIN:STANDARD
TZNAME:EST
DTSTART:20241103T020000
TZOFFSETFROM:-0400
TZOFFSETTO:-0500
RDATE:20251102T020000
END:STANDARD
BEGIN:DAYLIGHT
TZNAME:EDT
DTSTART:20250309T020000
TZOFFSETFROM:-0500
TZOFFSETTO:-0400
RDATE:20260308T020000
END:DAYLIGHT
END:VTIMEZONE
BEGIN:VEVENT
UID:46ad85cf-7696-4f5f-9153-3ff1db727b81
DTSTAMP:20260421T083336Z
DESCRIPTION:aking Self-Directed Services Work: Real Stories\, Real Strategi
 es for Families Supporting Loved Ones with Down Syndrome --- Haciendo que 
 los Servicios Autodirigidos Funcionen: Historias Reales y Estrategias Real
 es para Familias que Apoyan a Seres Queridos con Síndrome de Down\n\nSelf-
 directed services give individuals with intellectual and developmental dis
 abilities and their families more choice and control over the support they
  receive. But navigating the system—especially in Maryland—can feel overwh
 elming and confusing.\n\nJoin DSNMC and DSAmd for a 90-minute webinar focu
 sed on how families supporting individuals with Down syndrome are using se
 lf-directed services to meet their loved ones’ unique needs across areas l
 ike employment\, post-secondary education\, independent living\, and medic
 al care.\n\nThis session will feature:\n\nA brief presentation by a repres
 entative from Maryland’s Developmental Disabilities Administration (DDA) p
 roviding an overview of the self-directed service model.\nA panel of paren
 ts and caregivers from our own community sharing their lived experiences u
 sing self-directed services.\nTime for Q&A\, with opportunities to ask que
 stions in advance or during the session.\nWhether you’re just starting to 
 consider self-directed options or are looking for ideas to make the most o
 f your existing plan\, this webinar will provide practical insights\, insp
 iration\, and resources.\n----------\nLos servicios autodirigidos ofrecen 
 a las personas con discapacidades intelectuales y del desarrollo\, y a sus
  familias\, más opciones y control sobre el apoyo que reciben. Sin embargo
 \, navegar el sistema—especialmente en Maryland—puede resultar abrumador y
  confuso.\n\nÚnase a DSNMC y DSAmd en un seminario web de 90 minutos enfoc
 ado en cómo las familias que apoyan a personas con síndrome de Down están 
 utilizando los servicios autodirigidos para satisfacer las necesidades úni
 cas de sus seres queridos en áreas como el empleo\, la educación postsecun
 daria\, la vida independiente y la atención médica.\n\nEsta sesión incluir
 á:\n\nUna breve presentación a cargo de un representante de la Administrac
 ión de Discapacidades del Desarrollo (DDA) de Maryland\, quien ofrecerá un
 a visión general del modelo de servicios autodirigidos.\nUn panel de padre
 s y cuidadores de nuestra propia comunidad que compartirán sus experiencia
 s personales utilizando servicios autodirigidos.\nTiempo para preguntas y 
 respuestas\, con la oportunidad de enviar preguntas por adelantado o duran
 te la sesión.\nYa sea que esté empezando a considerar las opciones autodir
 igidas o buscando ideas para aprovechar al máximo su plan actual\, este se
 minario web le brindará ideas prácticas\, inspiración y recursos.\n\nSi ne
 cesita traducción al español\, debe registrarse antes del 24 de abril e in
 dicar su solicitud al momento de registrarse.\n\nSi necesita ayuda para re
 gistrarse en este evento\, no dude en contactar a Thelma o Isabel a estos 
 correos: thelma@dsnmc.org o isabel@dsnmc.org
DTSTART;TZID=America/New_York:20250429T190000
DTEND;TZID=America/New_York:20250429T203000
LOCATION:Virtual
SUMMARY:DSNMC & DSAmd Parent/Caregiver Speaker Series: Self-Directed Servic
 es
END:VEVENT
END:VCALENDAR
