BEGIN:VCALENDAR
VERSION:2.0
PRODID:-//dsnmc.org//NONSGML kigkonsult.se iCalcreator 2.30.10//
CALSCALE:GREGORIAN
METHOD:PUBLISH
UID:6b4ce7bd-e6b6-4443-931e-eade4addbe3f
X-WR-CALDESC:
X-WR-RELCALID:b45677ff547d4139ec751bc613129869
X-WR-TIMEZONE:America/New_York
BEGIN:VTIMEZONE
TZID:America/New_York
BEGIN:STANDARD
TZNAME:EST
DTSTART:20261101T020000
TZOFFSETFROM:-0400
TZOFFSETTO:-0500
RDATE:20271107T020000
END:STANDARD
BEGIN:DAYLIGHT
TZNAME:EDT
DTSTART:20270314T020000
TZOFFSETFROM:-0500
TZOFFSETTO:-0400
RDATE:20280312T020000
END:DAYLIGHT
END:VTIMEZONE
BEGIN:VEVENT
UID:10909cd3-902a-4707-940f-14a95b884684
DTSTAMP:20260421T083211Z
DESCRIPTION:
DTSTART;TZID=America/New_York:20270419T193000
DTEND;TZID=America/New_York:20270419T210000
LOCATION:
SUMMARY:Board Meeting
END:VEVENT
END:VCALENDAR
