BEGIN:VCALENDAR
VERSION:2.0
PRODID:-//dsnmc.org//NONSGML kigkonsult.se iCalcreator 2.30.10//
CALSCALE:GREGORIAN
METHOD:PUBLISH
UID:eae7e1eb-d4c6-47a5-998c-5e6863499a10
X-WR-CALDESC:
X-WR-RELCALID:268606dd6448fbdd13c9e93629d771e8
X-WR-TIMEZONE:America/New_York
BEGIN:VTIMEZONE
TZID:America/New_York
BEGIN:STANDARD
TZNAME:EST
DTSTART:20261101T020000
TZOFFSETFROM:-0400
TZOFFSETTO:-0500
RDATE:20271107T020000
RDATE:20281105T020000
END:STANDARD
BEGIN:DAYLIGHT
TZNAME:EDT
DTSTART:20270314T020000
TZOFFSETFROM:-0500
TZOFFSETTO:-0400
RDATE:20280312T020000
END:DAYLIGHT
END:VTIMEZONE
BEGIN:VEVENT
UID:a2940e16-077d-4693-aa6e-4e9e5ed83227
DTSTAMP:20260421T094551Z
DESCRIPTION:
DTSTART;TZID=America/New_York:20270517T193000
DTEND;TZID=America/New_York:20270517T210000
LOCATION:
SUMMARY:Board Meeting
END:VEVENT
END:VCALENDAR
