BEGIN:VCALENDAR
VERSION:2.0
PRODID:-//dsnmc.org//NONSGML kigkonsult.se iCalcreator 2.30.10//
CALSCALE:GREGORIAN
METHOD:PUBLISH
UID:8b1bb059-d8f6-4417-ba1a-3d4e4fe20d50
X-WR-CALDESC:
X-WR-RELCALID:b8df50f2b61379ed8b0f27fe38c6229a
X-WR-TIMEZONE:America/New_York
BEGIN:VTIMEZONE
TZID:America/New_York
BEGIN:STANDARD
TZNAME:EST
DTSTART:20261101T020000
TZOFFSETFROM:-0400
TZOFFSETTO:-0500
RDATE:20271107T020000
RDATE:20281105T020000
END:STANDARD
BEGIN:DAYLIGHT
TZNAME:EDT
DTSTART:20270314T020000
TZOFFSETFROM:-0500
TZOFFSETTO:-0400
RDATE:20280312T020000
END:DAYLIGHT
END:VTIMEZONE
BEGIN:VEVENT
UID:762279db-e290-4769-af42-07e236c0e377
DTSTAMP:20260423T113441Z
DESCRIPTION:
DTSTART;TZID=America/New_York:20270621T193000
DTEND;TZID=America/New_York:20270621T210000
LOCATION:
SUMMARY:Board Meeting
END:VEVENT
END:VCALENDAR
