BEGIN:VCALENDAR
VERSION:2.0
PRODID:-//dsnmc.org//NONSGML kigkonsult.se iCalcreator 2.30.10//
CALSCALE:GREGORIAN
METHOD:PUBLISH
UID:c6f756ca-0459-42f8-bc42-02b73119bb85
X-WR-CALDESC:Join our Teen Hangout program every Thursday at 6:30 via Zoom!
  For Ages 14 - 19. Families are welcome to join. Email Adrian to be added 
 to the contact list and to receive the Zoom link.\n
X-WR-RELCALID:ac7abed91cb69e6d6b7b5e2e43bfdd11
X-WR-TIMEZONE:America/New_York
BEGIN:VTIMEZONE
TZID:America/New_York
BEGIN:STANDARD
TZNAME:EST
DTSTART:20261101T020000
TZOFFSETFROM:-0400
TZOFFSETTO:-0500
RDATE:20271107T020000
RDATE:20281105T020000
END:STANDARD
BEGIN:DAYLIGHT
TZNAME:EDT
DTSTART:20270314T020000
TZOFFSETFROM:-0500
TZOFFSETTO:-0400
RDATE:20280312T020000
END:DAYLIGHT
END:VTIMEZONE
BEGIN:VEVENT
UID:04bb9922-3cca-45e8-8012-c45a62ddd110
DTSTAMP:20260423T130736Z
DESCRIPTION:Join our Teen Hangout program every Thursday at 6:30 via Zoom! 
 For Ages 14 - 19. Families are welcome to join. Email Adrian to be added t
 o the contact list and to receive the Zoom link.\n
DTSTART;TZID=America/New_York:20270701T183000
DTEND;TZID=America/New_York:20270701T190000
LOCATION:
SUMMARY:Virtual Teen Hangout
END:VEVENT
END:VCALENDAR
