BEGIN:VCALENDAR
VERSION:2.0
PRODID:-//dsnmc.org//NONSGML kigkonsult.se iCalcreator 2.30.10//
CALSCALE:GREGORIAN
METHOD:PUBLISH
UID:e607f44e-e87f-49d5-a16a-4672d49ada93
X-WR-CALDESC:Únase a nuestras reuniones en español el segundo lunes de cada
  mes. Envíe un correo electrónico a nuestro coordinador de grupo latino pa
 ra recibir la información de la reunión de Zoom.\n\nCome join our all-Span
 ish meetings the second Monday of every month. Email our Latino group coor
 dinator for more information.
X-WR-RELCALID:756eee9282f67e52877d5da80282baf2
X-WR-TIMEZONE:America/New_York
BEGIN:VTIMEZONE
TZID:America/New_York
BEGIN:STANDARD
TZNAME:EST
DTSTART:20261101T020000
TZOFFSETFROM:-0400
TZOFFSETTO:-0500
RDATE:20271107T020000
RDATE:20281105T020000
END:STANDARD
BEGIN:DAYLIGHT
TZNAME:EDT
DTSTART:20270314T020000
TZOFFSETFROM:-0500
TZOFFSETTO:-0400
RDATE:20280312T020000
END:DAYLIGHT
END:VTIMEZONE
BEGIN:VEVENT
UID:b542e804-4637-40e2-9362-4237958fa983
DTSTAMP:20260423T145222Z
DESCRIPTION:Únase a nuestras reuniones en español el segundo lunes de cada 
 mes. Envíe un correo electrónico a nuestro coordinador de grupo latino par
 a recibir la información de la reunión de Zoom.\n\nCome join our all-Spani
 sh meetings the second Monday of every month. Email our Latino group coord
 inator for more information.
DTSTART;TZID=America/New_York:20270809T193000
DTEND;TZID=America/New_York:20270809T210000
LOCATION:
SUMMARY:DSNMC Grupo Latino Meeting
END:VEVENT
END:VCALENDAR
