BEGIN:VCALENDAR
VERSION:2.0
PRODID:-//dsnmc.org//NONSGML kigkonsult.se iCalcreator 2.30.10//
CALSCALE:GREGORIAN
METHOD:PUBLISH
UID:0e5d1e5c-15f4-4006-a17d-50df242a08f0
X-WR-CALDESC:
X-WR-RELCALID:548b5049faa7e1f014c7bcb2d451a6a7
X-WR-TIMEZONE:America/New_York
BEGIN:VTIMEZONE
TZID:America/New_York
BEGIN:STANDARD
TZNAME:EST
DTSTART:20261101T020000
TZOFFSETFROM:-0400
TZOFFSETTO:-0500
RDATE:20271107T020000
RDATE:20281105T020000
END:STANDARD
BEGIN:DAYLIGHT
TZNAME:EDT
DTSTART:20270314T020000
TZOFFSETFROM:-0500
TZOFFSETTO:-0400
RDATE:20280312T020000
END:DAYLIGHT
END:VTIMEZONE
BEGIN:VEVENT
UID:042f3860-49b2-4f4e-a5d4-0dcdb7d96de8
DTSTAMP:20260423T145104Z
DESCRIPTION:
DTSTART;TZID=America/New_York:20270816T193000
DTEND;TZID=America/New_York:20270816T210000
LOCATION:
SUMMARY:Board Meeting
END:VEVENT
END:VCALENDAR
