BEGIN:VCALENDAR
VERSION:2.0
PRODID:-//dsnmc.org//NONSGML kigkonsult.se iCalcreator 2.30.10//
CALSCALE:GREGORIAN
METHOD:PUBLISH
UID:e72f3fee-61aa-40e8-b94b-69195df671bf
X-WR-CALDESC:The DSNMC Education Committee meets on the third Thursday of e
 ach month from 7:15 pm - 8:15 pm\, and new members are welcome to join the
  committee.\n\nCo-chairs: \nKalani Brown (kalaniuke@hotmail.com) and Carri
 e Swann (carrie.swann@gmail.com)
X-WR-RELCALID:ccb73609a1f500383f82aaa0db50cf50
X-WR-TIMEZONE:America/New_York
BEGIN:VTIMEZONE
TZID:America/New_York
BEGIN:STANDARD
TZNAME:EST
DTSTART:20261101T020000
TZOFFSETFROM:-0400
TZOFFSETTO:-0500
RDATE:20271107T020000
RDATE:20281105T020000
END:STANDARD
BEGIN:DAYLIGHT
TZNAME:EDT
DTSTART:20270314T020000
TZOFFSETFROM:-0500
TZOFFSETTO:-0400
RDATE:20280312T020000
RDATE:20290311T020000
END:DAYLIGHT
END:VTIMEZONE
BEGIN:VEVENT
UID:cd32773c-7f8a-4622-95a1-bb501d78e81c
DTSTAMP:20260423T161010Z
DESCRIPTION:The DSNMC Education Committee meets on the third Thursday of ea
 ch month from 7:15 pm - 8:15 pm\, and new members are welcome to join the 
 committee.\n\nCo-chairs: \nKalani Brown (kalaniuke@hotmail.com) and Carrie
  Swann (carrie.swann@gmail.com)
DTSTART;TZID=America/New_York:20270916T191500
DTEND;TZID=America/New_York:20270916T201500
LOCATION:
SUMMARY:DSNMC Education Committee Meeting
END:VEVENT
END:VCALENDAR
