BEGIN:VCALENDAR
VERSION:2.0
PRODID:-//dsnmc.org//NONSGML kigkonsult.se iCalcreator 2.30.10//
CALSCALE:GREGORIAN
METHOD:PUBLISH
UID:5db0c4aa-7f54-44dd-a538-86f1dff609ef
X-WR-CALDESC:
X-WR-RELCALID:c770b083ea23f1d045888d93966d097a
X-WR-TIMEZONE:America/New_York
BEGIN:VTIMEZONE
TZID:America/New_York
BEGIN:STANDARD
TZNAME:EST
DTSTART:20261101T020000
TZOFFSETFROM:-0400
TZOFFSETTO:-0500
RDATE:20271107T020000
RDATE:20281105T020000
END:STANDARD
BEGIN:DAYLIGHT
TZNAME:EDT
DTSTART:20270314T020000
TZOFFSETFROM:-0500
TZOFFSETTO:-0400
RDATE:20280312T020000
RDATE:20290311T020000
END:DAYLIGHT
END:VTIMEZONE
BEGIN:VEVENT
UID:218f0e23-d5af-4abd-88d9-81c81860afaf
DTSTAMP:20260423T173743Z
DESCRIPTION:
DTSTART;TZID=America/New_York:20271018T193000
DTEND;TZID=America/New_York:20271018T210000
LOCATION:
SUMMARY:Board Meeting
END:VEVENT
END:VCALENDAR
