BEGIN:VCALENDAR
VERSION:2.0
PRODID:-//dsnmc.org//NONSGML kigkonsult.se iCalcreator 2.30.10//
CALSCALE:GREGORIAN
METHOD:PUBLISH
UID:12d01b04-f81d-4982-bcb4-8e25502f9a80
X-WR-CALDESC:Join our Teen Hangout program every Thursday at 6:30 via Zoom!
  For Ages 14 - 19. Families are welcome to join. Email Adrian to be added 
 to the contact list and to receive the Zoom link.\n
X-WR-RELCALID:37090d2bd0832d103be4cee4a9437ad3
X-WR-TIMEZONE:America/New_York
BEGIN:VTIMEZONE
TZID:America/New_York
BEGIN:STANDARD
TZNAME:EST
DTSTART:20261101T020000
TZOFFSETFROM:-0400
TZOFFSETTO:-0500
RDATE:20271107T020000
RDATE:20281105T020000
END:STANDARD
BEGIN:DAYLIGHT
TZNAME:EDT
DTSTART:20270314T020000
TZOFFSETFROM:-0500
TZOFFSETTO:-0400
RDATE:20280312T020000
RDATE:20290311T020000
END:DAYLIGHT
END:VTIMEZONE
BEGIN:VEVENT
UID:0bc757d4-1174-44f4-a6ea-53c4031fc153
DTSTAMP:20260425T102142Z
DESCRIPTION:Join our Teen Hangout program every Thursday at 6:30 via Zoom! 
 For Ages 14 - 19. Families are welcome to join. Email Adrian to be added t
 o the contact list and to receive the Zoom link.\n
DTSTART;TZID=America/New_York:20271021T183000
DTEND;TZID=America/New_York:20271021T190000
LOCATION:
SUMMARY:Virtual Teen Hangout
END:VEVENT
END:VCALENDAR
