BEGIN:VCALENDAR
VERSION:2.0
PRODID:-//dsnmc.org//NONSGML kigkonsult.se iCalcreator 2.30.10//
CALSCALE:GREGORIAN
METHOD:PUBLISH
UID:c4a0cd87-7c7c-491e-a1d0-ee1cb55e17eb
X-WR-CALDESC:Join our Teen Hangout program every Thursday at 6:30 via Zoom!
  For Ages 14 - 19. Families are welcome to join. Email Adrian to be added 
 to the contact list and to receive the Zoom link.\n
X-WR-RELCALID:8011f4ae112d51151c7e5dd24f15948f
X-WR-TIMEZONE:America/New_York
BEGIN:VTIMEZONE
TZID:America/New_York
BEGIN:STANDARD
TZNAME:EST
DTSTART:20271107T020000
TZOFFSETFROM:-0400
TZOFFSETTO:-0500
RDATE:20281105T020000
END:STANDARD
BEGIN:DAYLIGHT
TZNAME:EDT
DTSTART:20270314T020000
TZOFFSETFROM:-0500
TZOFFSETTO:-0400
RDATE:20280312T020000
RDATE:20290311T020000
END:DAYLIGHT
END:VTIMEZONE
BEGIN:VEVENT
UID:c9bb4c64-2992-4c5b-b052-fb961ceb5d04
DTSTAMP:20260423T191441Z
DESCRIPTION:Join our Teen Hangout program every Thursday at 6:30 via Zoom! 
 For Ages 14 - 19. Families are welcome to join. Email Adrian to be added t
 o the contact list and to receive the Zoom link.\n
DTSTART;TZID=America/New_York:20271118T183000
DTEND;TZID=America/New_York:20271118T190000
LOCATION:
SUMMARY:Virtual Teen Hangout
END:VEVENT
END:VCALENDAR
