BEGIN:VCALENDAR
VERSION:2.0
PRODID:-//dsnmc.org//NONSGML kigkonsult.se iCalcreator 2.30.10//
CALSCALE:GREGORIAN
METHOD:PUBLISH
UID:87134305-5834-4e57-b1cf-a499b69f6c30
X-WR-CALDESC:The DSNMC Education Committee meets on the third Thursday of e
 ach month from 7:15 pm - 8:15 pm\, and new members are welcome to join the
  committee.\n\nCo-chairs: \nKalani Brown (kalaniuke@hotmail.com) and Carri
 e Swann (carrie.swann@gmail.com)
X-WR-RELCALID:b3d605f6190cf45943661627e3b78928
X-WR-TIMEZONE:America/New_York
BEGIN:VTIMEZONE
TZID:America/New_York
BEGIN:STANDARD
TZNAME:EST
DTSTART:20271107T020000
TZOFFSETFROM:-0400
TZOFFSETTO:-0500
RDATE:20281105T020000
END:STANDARD
BEGIN:DAYLIGHT
TZNAME:EDT
DTSTART:20270314T020000
TZOFFSETFROM:-0500
TZOFFSETTO:-0400
RDATE:20280312T020000
RDATE:20290311T020000
END:DAYLIGHT
END:VTIMEZONE
BEGIN:VEVENT
UID:5d2ad6af-43c8-4d8d-a0e9-b85311b7a471
DTSTAMP:20260423T204348Z
DESCRIPTION:The DSNMC Education Committee meets on the third Thursday of ea
 ch month from 7:15 pm - 8:15 pm\, and new members are welcome to join the 
 committee.\n\nCo-chairs: \nKalani Brown (kalaniuke@hotmail.com) and Carrie
  Swann (carrie.swann@gmail.com)
DTSTART;TZID=America/New_York:20271216T191500
DTEND;TZID=America/New_York:20271216T201500
LOCATION:
SUMMARY:DSNMC Education Committee Meeting
END:VEVENT
END:VCALENDAR
