BEGIN:VCALENDAR
VERSION:2.0
PRODID:-//dsnmc.org//NONSGML kigkonsult.se iCalcreator 2.30.10//
CALSCALE:GREGORIAN
METHOD:PUBLISH
UID:810dea00-efc9-4bd0-9b70-fb5a024fdd23
X-WR-CALDESC:
X-WR-RELCALID:636eb562700b87f8312573657a3cdc2b
X-WR-TIMEZONE:America/New_York
BEGIN:VTIMEZONE
TZID:America/New_York
BEGIN:STANDARD
TZNAME:EST
DTSTART:20271107T020000
TZOFFSETFROM:-0400
TZOFFSETTO:-0500
RDATE:20281105T020000
END:STANDARD
BEGIN:DAYLIGHT
TZNAME:EDT
DTSTART:20270314T020000
TZOFFSETFROM:-0500
TZOFFSETTO:-0400
RDATE:20280312T020000
RDATE:20290311T020000
END:DAYLIGHT
END:VTIMEZONE
BEGIN:VEVENT
UID:77ae5140-7450-4a11-a878-be857ed446f3
DTSTAMP:20260423T204002Z
DESCRIPTION:
DTSTART;TZID=America/New_York:20271220T193000
DTEND;TZID=America/New_York:20271220T210000
LOCATION:
SUMMARY:Board Meeting
END:VEVENT
END:VCALENDAR
