BEGIN:VCALENDAR
VERSION:2.0
PRODID:-//dsnmc.org//NONSGML kigkonsult.se iCalcreator 2.30.10//
CALSCALE:GREGORIAN
METHOD:PUBLISH
UID:57a66a7c-9b00-4be0-b0f3-96e4cb066f97
X-WR-CALDESC:
X-WR-RELCALID:ae1d604b2f843bfb0a6559aa1a66b39e
X-WR-TIMEZONE:America/New_York
BEGIN:VTIMEZONE
TZID:America/New_York
BEGIN:STANDARD
TZNAME:EST
DTSTART:20271107T020000
TZOFFSETFROM:-0400
TZOFFSETTO:-0500
RDATE:20281105T020000
END:STANDARD
BEGIN:DAYLIGHT
TZNAME:EDT
DTSTART:20270314T020000
TZOFFSETFROM:-0500
TZOFFSETTO:-0400
RDATE:20280312T020000
RDATE:20290311T020000
END:DAYLIGHT
END:VTIMEZONE
BEGIN:VEVENT
UID:481d4e3e-a911-4652-9fc5-a1a89834cbae
DTSTAMP:20260424T130709Z
DESCRIPTION:
DTSTART;TZID=America/New_York:20280221T193000
DTEND;TZID=America/New_York:20280221T210000
LOCATION:
SUMMARY:Board Meeting
END:VEVENT
END:VCALENDAR
