BEGIN:VCALENDAR
VERSION:2.0
PRODID:-//dsnmc.org//NONSGML kigkonsult.se iCalcreator 2.30.10//
CALSCALE:GREGORIAN
METHOD:PUBLISH
UID:f5a0b94b-26a9-4b6e-91e3-689236bc8c56
X-WR-CALDESC:Join our Teen Hangout program every Thursday at 6:30 via Zoom!
  For Ages 14 - 19. Families are welcome to join. Email Adrian to be added 
 to the contact list and to receive the Zoom link.\n
X-WR-RELCALID:3b232d885f870030da82cbf94c701cd7
X-WR-TIMEZONE:America/New_York
BEGIN:VTIMEZONE
TZID:America/New_York
BEGIN:STANDARD
TZNAME:EST
DTSTART:20271107T020000
TZOFFSETFROM:-0400
TZOFFSETTO:-0500
RDATE:20281105T020000
END:STANDARD
BEGIN:DAYLIGHT
TZNAME:EDT
DTSTART:20270314T020000
TZOFFSETFROM:-0500
TZOFFSETTO:-0400
RDATE:20280312T020000
RDATE:20290311T020000
END:DAYLIGHT
END:VTIMEZONE
BEGIN:VEVENT
UID:60943f96-fc75-4e87-9d99-1b263811e8fb
DTSTAMP:20260423T234729Z
DESCRIPTION:Join our Teen Hangout program every Thursday at 6:30 via Zoom! 
 For Ages 14 - 19. Families are welcome to join. Email Adrian to be added t
 o the contact list and to receive the Zoom link.\n
DTSTART;TZID=America/New_York:20280224T183000
DTEND;TZID=America/New_York:20280224T190000
LOCATION:
SUMMARY:Virtual Teen Hangout
END:VEVENT
END:VCALENDAR
