BEGIN:VCALENDAR
VERSION:2.0
PRODID:-//dsnmc.org//NONSGML kigkonsult.se iCalcreator 2.30.10//
CALSCALE:GREGORIAN
METHOD:PUBLISH
UID:154def31-e626-4419-893a-aca6b51cb5f4
X-WR-CALDESC:
X-WR-RELCALID:f1692b54e196581d4d0b118de6068c94
X-WR-TIMEZONE:America/New_York
BEGIN:VTIMEZONE
TZID:America/New_York
BEGIN:STANDARD
TZNAME:EST
DTSTART:20271107T020000
TZOFFSETFROM:-0400
TZOFFSETTO:-0500
RDATE:20281105T020000
END:STANDARD
BEGIN:DAYLIGHT
TZNAME:EDT
DTSTART:20280312T020000
TZOFFSETFROM:-0500
TZOFFSETTO:-0400
RDATE:20290311T020000
END:DAYLIGHT
END:VTIMEZONE
BEGIN:VEVENT
UID:b50e67ca-b422-4a7b-bfcc-41662561d28f
DTSTAMP:20260424T142233Z
DESCRIPTION:
DTSTART;TZID=America/New_York:20280320T193000
DTEND;TZID=America/New_York:20280320T210000
LOCATION:
SUMMARY:Board Meeting
END:VEVENT
END:VCALENDAR
