BEGIN:VCALENDAR
VERSION:2.0
PRODID:-//dsnmc.org//NONSGML kigkonsult.se iCalcreator 2.30.10//
CALSCALE:GREGORIAN
METHOD:PUBLISH
UID:401d8380-9532-4541-b6dd-047b989b4b5b
X-WR-CALDESC:
X-WR-RELCALID:8033db97ae3e34ec29d80f67b23adfab
X-WR-TIMEZONE:America/New_York
BEGIN:VTIMEZONE
TZID:America/New_York
BEGIN:STANDARD
TZNAME:EST
DTSTART:20271107T020000
TZOFFSETFROM:-0400
TZOFFSETTO:-0500
RDATE:20281105T020000
END:STANDARD
BEGIN:DAYLIGHT
TZNAME:EDT
DTSTART:20280312T020000
TZOFFSETFROM:-0500
TZOFFSETTO:-0400
RDATE:20290311T020000
END:DAYLIGHT
END:VTIMEZONE
BEGIN:VEVENT
UID:3b3aad48-772f-41b4-bc28-51e450484bdf
DTSTAMP:20260424T022354Z
DESCRIPTION:
DTSTART;TZID=America/New_York:20280417T193000
DTEND;TZID=America/New_York:20280417T210000
LOCATION:
SUMMARY:Board Meeting
END:VEVENT
END:VCALENDAR
