BEGIN:VCALENDAR
VERSION:2.0
PRODID:-//dsnmc.org//NONSGML kigkonsult.se iCalcreator 2.30.10//
CALSCALE:GREGORIAN
METHOD:PUBLISH
UID:f91d2b04-8d81-4dd8-93ce-e7b6b4015814
X-WR-CALDESC:The DSNMC Education Committee meets on the third Thursday of e
 ach month from 7:15 pm - 8:15 pm\, and new members are welcome to join the
  committee.\n\nCo-chairs: \nKalani Brown (kalaniuke@hotmail.com) and Carri
 e Swann (carrie.swann@gmail.com)
X-WR-RELCALID:5003a84d387b0070afdb3e6a234f1ca2
X-WR-TIMEZONE:America/New_York
BEGIN:VTIMEZONE
TZID:America/New_York
BEGIN:STANDARD
TZNAME:EST
DTSTART:20271107T020000
TZOFFSETFROM:-0400
TZOFFSETTO:-0500
RDATE:20281105T020000
END:STANDARD
BEGIN:DAYLIGHT
TZNAME:EDT
DTSTART:20280312T020000
TZOFFSETFROM:-0500
TZOFFSETTO:-0400
RDATE:20290311T020000
END:DAYLIGHT
END:VTIMEZONE
BEGIN:VEVENT
UID:22051601-23d5-4dd3-ab26-93e65b398180
DTSTAMP:20260424T021725Z
DESCRIPTION:The DSNMC Education Committee meets on the third Thursday of ea
 ch month from 7:15 pm - 8:15 pm\, and new members are welcome to join the 
 committee.\n\nCo-chairs: \nKalani Brown (kalaniuke@hotmail.com) and Carrie
  Swann (carrie.swann@gmail.com)
DTSTART;TZID=America/New_York:20280420T191500
DTEND;TZID=America/New_York:20280420T201500
LOCATION:
SUMMARY:DSNMC Education Committee Meeting
END:VEVENT
END:VCALENDAR
