BEGIN:VCALENDAR
VERSION:2.0
PRODID:-//dsnmc.org//NONSGML kigkonsult.se iCalcreator 2.30.10//
CALSCALE:GREGORIAN
METHOD:PUBLISH
UID:734a4c97-67a6-4ffa-8a97-bd9aadc51a88
X-WR-CALDESC:
X-WR-RELCALID:d2d8b20f1a425143c47798f3f46889bb
X-WR-TIMEZONE:America/New_York
BEGIN:VTIMEZONE
TZID:America/New_York
BEGIN:STANDARD
TZNAME:EST
DTSTART:20271107T020000
TZOFFSETFROM:-0400
TZOFFSETTO:-0500
RDATE:20281105T020000
RDATE:20291104T020000
END:STANDARD
BEGIN:DAYLIGHT
TZNAME:EDT
DTSTART:20280312T020000
TZOFFSETFROM:-0500
TZOFFSETTO:-0400
RDATE:20290311T020000
END:DAYLIGHT
END:VTIMEZONE
BEGIN:VEVENT
UID:29a54558-aedf-4529-9912-b5d9a8fd7400
DTSTAMP:20260424T033505Z
DESCRIPTION:
DTSTART;TZID=America/New_York:20280515T193000
DTEND;TZID=America/New_York:20280515T210000
LOCATION:
SUMMARY:Board Meeting
END:VEVENT
END:VCALENDAR
