BEGIN:VCALENDAR
VERSION:2.0
PRODID:-//dsnmc.org//NONSGML kigkonsult.se iCalcreator 2.30.10//
CALSCALE:GREGORIAN
METHOD:PUBLISH
UID:64f782ad-bddb-41a0-9970-183ba36a28af
X-WR-CALDESC:
X-WR-RELCALID:5167c0d1f7333551616da1a34c060682
X-WR-TIMEZONE:America/New_York
BEGIN:VTIMEZONE
TZID:America/New_York
BEGIN:STANDARD
TZNAME:EST
DTSTART:20271107T020000
TZOFFSETFROM:-0400
TZOFFSETTO:-0500
RDATE:20281105T020000
RDATE:20291104T020000
END:STANDARD
BEGIN:DAYLIGHT
TZNAME:EDT
DTSTART:20280312T020000
TZOFFSETFROM:-0500
TZOFFSETTO:-0400
RDATE:20290311T020000
END:DAYLIGHT
END:VTIMEZONE
BEGIN:VEVENT
UID:318a2499-228a-4132-8c52-f5ca0b9f4b10
DTSTAMP:20260424T044813Z
DESCRIPTION:
DTSTART;TZID=America/New_York:20280619T193000
DTEND;TZID=America/New_York:20280619T210000
LOCATION:
SUMMARY:Board Meeting
END:VEVENT
END:VCALENDAR
