BEGIN:VCALENDAR
VERSION:2.0
PRODID:-//dsnmc.org//NONSGML kigkonsult.se iCalcreator 2.30.10//
CALSCALE:GREGORIAN
METHOD:PUBLISH
UID:6b88cb9c-3baa-4361-81af-e6dda2a3f1b3
X-WR-CALDESC:Join our Teen Hangout program every Thursday at 6:30 via Zoom!
  For Ages 14 - 19. Families are welcome to join. Email Adrian to be added 
 to the contact list and to receive the Zoom link.\n
X-WR-RELCALID:afd847138ecf133f8782c298969611aa
X-WR-TIMEZONE:America/New_York
BEGIN:VTIMEZONE
TZID:America/New_York
BEGIN:STANDARD
TZNAME:EST
DTSTART:20271107T020000
TZOFFSETFROM:-0400
TZOFFSETTO:-0500
RDATE:20281105T020000
RDATE:20291104T020000
END:STANDARD
BEGIN:DAYLIGHT
TZNAME:EDT
DTSTART:20280312T020000
TZOFFSETFROM:-0500
TZOFFSETTO:-0400
RDATE:20290311T020000
END:DAYLIGHT
END:VTIMEZONE
BEGIN:VEVENT
UID:8b2ff5d8-c312-4686-ac93-9b41dc2453e8
DTSTAMP:20260424T044643Z
DESCRIPTION:Join our Teen Hangout program every Thursday at 6:30 via Zoom! 
 For Ages 14 - 19. Families are welcome to join. Email Adrian to be added t
 o the contact list and to receive the Zoom link.\n
DTSTART;TZID=America/New_York:20280622T183000
DTEND;TZID=America/New_York:20280622T190000
LOCATION:
SUMMARY:Virtual Teen Hangout
END:VEVENT
END:VCALENDAR
