BEGIN:VCALENDAR
VERSION:2.0
PRODID:-//dsnmc.org//NONSGML kigkonsult.se iCalcreator 2.30.10//
CALSCALE:GREGORIAN
METHOD:PUBLISH
UID:92ce6dfd-3f18-4508-ba59-aa48cb65bd7c
X-WR-CALDESC:Únase a nuestras reuniones en español el segundo lunes de cada
  mes. Envíe un correo electrónico a nuestro coordinador de grupo latino pa
 ra recibir la información de la reunión de Zoom.\n\nCome join our all-Span
 ish meetings the second Monday of every month. Email our Latino group coor
 dinator for more information.
X-WR-RELCALID:8310889ca87b0570b3a192544abf7398
X-WR-TIMEZONE:America/New_York
BEGIN:VTIMEZONE
TZID:America/New_York
BEGIN:STANDARD
TZNAME:EST
DTSTART:20271107T020000
TZOFFSETFROM:-0400
TZOFFSETTO:-0500
RDATE:20281105T020000
RDATE:20291104T020000
END:STANDARD
BEGIN:DAYLIGHT
TZNAME:EDT
DTSTART:20280312T020000
TZOFFSETFROM:-0500
TZOFFSETTO:-0400
RDATE:20290311T020000
END:DAYLIGHT
END:VTIMEZONE
BEGIN:VEVENT
UID:36384a64-e390-44dd-b63f-97b722fa89b8
DTSTAMP:20260424T055945Z
DESCRIPTION:Únase a nuestras reuniones en español el segundo lunes de cada 
 mes. Envíe un correo electrónico a nuestro coordinador de grupo latino par
 a recibir la información de la reunión de Zoom.\n\nCome join our all-Spani
 sh meetings the second Monday of every month. Email our Latino group coord
 inator for more information.
DTSTART;TZID=America/New_York:20280710T193000
DTEND;TZID=America/New_York:20280710T210000
LOCATION:
SUMMARY:DSNMC Grupo Latino Meeting
END:VEVENT
END:VCALENDAR
