BEGIN:VCALENDAR
VERSION:2.0
PRODID:-//dsnmc.org//NONSGML kigkonsult.se iCalcreator 2.30.10//
CALSCALE:GREGORIAN
METHOD:PUBLISH
UID:4f1f0e82-49c2-4c4c-b611-111f3bbba5e0
X-WR-CALDESC:The DSNMC Education Committee meets on the third Thursday of e
 ach month from 7:15 pm - 8:15 pm\, and new members are welcome to join the
  committee.\n\nCo-chairs: \nKalani Brown (kalaniuke@hotmail.com) and Carri
 e Swann (carrie.swann@gmail.com)
X-WR-RELCALID:09589bb028bf1a08bef402c1705a4205
X-WR-TIMEZONE:America/New_York
BEGIN:VTIMEZONE
TZID:America/New_York
BEGIN:STANDARD
TZNAME:EST
DTSTART:20271107T020000
TZOFFSETFROM:-0400
TZOFFSETTO:-0500
RDATE:20281105T020000
RDATE:20291104T020000
END:STANDARD
BEGIN:DAYLIGHT
TZNAME:EDT
DTSTART:20280312T020000
TZOFFSETFROM:-0500
TZOFFSETTO:-0400
RDATE:20290311T020000
END:DAYLIGHT
END:VTIMEZONE
BEGIN:VEVENT
UID:39f7ba93-4c6d-4be8-8ea3-6d292e9f11a9
DTSTAMP:20260424T072032Z
DESCRIPTION:The DSNMC Education Committee meets on the third Thursday of ea
 ch month from 7:15 pm - 8:15 pm\, and new members are welcome to join the 
 committee.\n\nCo-chairs: \nKalani Brown (kalaniuke@hotmail.com) and Carrie
  Swann (carrie.swann@gmail.com)
DTSTART;TZID=America/New_York:20280817T191500
DTEND;TZID=America/New_York:20280817T201500
LOCATION:
SUMMARY:DSNMC Education Committee Meeting
END:VEVENT
END:VCALENDAR
