BEGIN:VCALENDAR
VERSION:2.0
PRODID:-//dsnmc.org//NONSGML kigkonsult.se iCalcreator 2.30.10//
CALSCALE:GREGORIAN
METHOD:PUBLISH
UID:b7eb52e5-6c23-4ec9-b619-b40d569861fd
X-WR-CALDESC:
X-WR-RELCALID:fef05166838642913deb70e994517df7
X-WR-TIMEZONE:America/New_York
BEGIN:VTIMEZONE
TZID:America/New_York
BEGIN:STANDARD
TZNAME:EST
DTSTART:20271107T020000
TZOFFSETFROM:-0400
TZOFFSETTO:-0500
RDATE:20281105T020000
RDATE:20291104T020000
END:STANDARD
BEGIN:DAYLIGHT
TZNAME:EDT
DTSTART:20280312T020000
TZOFFSETFROM:-0500
TZOFFSETTO:-0400
RDATE:20290311T020000
END:DAYLIGHT
END:VTIMEZONE
BEGIN:VEVENT
UID:ae9fc498-e1f2-4526-b6fb-8d9fef6bc06a
DTSTAMP:20260424T071608Z
DESCRIPTION:
DTSTART;TZID=America/New_York:20280821T193000
DTEND;TZID=America/New_York:20280821T210000
LOCATION:
SUMMARY:Board Meeting
END:VEVENT
END:VCALENDAR
