BEGIN:VCALENDAR
VERSION:2.0
PRODID:-//dsnmc.org//NONSGML kigkonsult.se iCalcreator 2.30.10//
CALSCALE:GREGORIAN
METHOD:PUBLISH
UID:5a1d8625-59f1-42c0-878c-f645290e0855
X-WR-CALDESC:Join us for a night of fun games and card making!\n\nTeen and 
 adult Self-advocates are invited to join us for a night of fun games and c
 ard making. We will have snacks and drinks as we make 'Thank You' cards fo
 r the Step Up Walk. We will also have music and games to play to keep the 
 fun going!\n\nSaturday\, November 16\n5:00pm to 7:00pm\nPoppy's Kitchen at
  Main Street\n50 Monroe Place\nRockville\, MD 20850\n\n_____\n\nSe invita 
 a los Autoabogados adolescentes y adultos a unirse a nosotros para una noc
 he de divertidos juegos y creación de tarjetas. Tendremos bocadillos y beb
 idas mientras hacemos tarjetas de 'Gracias' para la caminata Step Up. ¡Tam
 bién tendremos música y juegos para mantener la diversión!\n\nComo es temp
 orada de sustos\, todos los que quieran venir disfrazados son bienvenidos 
 a hacerlo\; ¡tendremos un desfile de disfraces para aquellos que se vistan
 !\n\nSábado\, 9 de noviembre\n5:00 p.m. a 7:00 p.m.\nPoppy's Kitchen en Ma
 in Street\n50 Monroe Place\nRockville\, MD 20850\n\n
X-WR-RELCALID:0b64cc81a442aea5dd420eaa20432fcd
X-WR-TIMEZONE:America/New_York
BEGIN:VTIMEZONE
TZID:America/New_York
BEGIN:STANDARD
TZNAME:EST
DTSTART:20241103T020000
TZOFFSETFROM:-0400
TZOFFSETTO:-0500
RDATE:20251102T020000
END:STANDARD
BEGIN:DAYLIGHT
TZNAME:EDT
DTSTART:20240310T020000
TZOFFSETFROM:-0500
TZOFFSETTO:-0400
RDATE:20250309T020000
RDATE:20260308T020000
END:DAYLIGHT
END:VTIMEZONE
BEGIN:VEVENT
UID:b0b0238c-62cc-4383-85ac-b606ec770d74
DTSTAMP:20260419T123726Z
DESCRIPTION:Join us for a night of fun games and card making!\n\nTeen and a
 dult Self-advocates are invited to join us for a night of fun games and ca
 rd making. We will have snacks and drinks as we make 'Thank You' cards for
  the Step Up Walk. We will also have music and games to play to keep the f
 un going!\n\nSaturday\, November 16\n5:00pm to 7:00pm\nPoppy's Kitchen at 
 Main Street\n50 Monroe Place\nRockville\, MD 20850\n\n_____\n\nSe invita a
  los Autoabogados adolescentes y adultos a unirse a nosotros para una noch
 e de divertidos juegos y creación de tarjetas. Tendremos bocadillos y bebi
 das mientras hacemos tarjetas de 'Gracias' para la caminata Step Up. ¡Tamb
 ién tendremos música y juegos para mantener la diversión!\n\nComo es tempo
 rada de sustos\, todos los que quieran venir disfrazados son bienvenidos a
  hacerlo\; ¡tendremos un desfile de disfraces para aquellos que se vistan!
 \n\nSábado\, 9 de noviembre\n5:00 p.m. a 7:00 p.m.\nPoppy's Kitchen en Mai
 n Street\n50 Monroe Place\nRockville\, MD 20850\n\n
DTSTART;TZID=America/New_York:20241116T170000
DTEND;TZID=America/New_York:20241116T190000
LOCATION:50 Monroe Pl\, Rockville\, MD 20850 US
SUMMARY:Card Making and Game Night
END:VEVENT
END:VCALENDAR
