BEGIN:VCALENDAR
VERSION:2.0
PRODID:-//dsnmc.org//NONSGML kigkonsult.se iCalcreator 2.30.10//
CALSCALE:GREGORIAN
METHOD:PUBLISH
UID:4f6ae9ee-f39f-421e-a0ee-b43d4be43c67
X-WR-CALDESC:Our ages 0-4 monthly playgroups are expanding to include ages 
 5-13 as we visit local parks around Montgomery County. Bring some sunscree
 n\, water and your favorite outdoor activity and join us at the park!\n\nF
 or more information about this event and to register\, click on the link b
 elow!\n\n-----\n\nNuestros grupos de juego mensuales para edades de 0 a 4 
 años se están ampliando para incluir también a niños de 5 a 13 años mientr
 as visitamos parques locales alrededor del condado de Montgomery. ¡Trae pr
 otector solar\, agua y tu actividad favorita al aire libre y acompáñanos e
 n el parque!\n\nPara obtener más información sobre este evento y registrar
 te\, ¡haz clic en el enlace a continuación!\n
X-WR-RELCALID:c192c15dd810475221a1053564a48c64
X-WR-TIMEZONE:America/New_York
BEGIN:VTIMEZONE
TZID:America/New_York
BEGIN:STANDARD
TZNAME:EST
DTSTART:20251102T020000
TZOFFSETFROM:-0400
TZOFFSETTO:-0500
RDATE:20261101T020000
END:STANDARD
BEGIN:DAYLIGHT
TZNAME:EDT
DTSTART:20260308T020000
TZOFFSETFROM:-0500
TZOFFSETTO:-0400
RDATE:20270314T020000
END:DAYLIGHT
END:VTIMEZONE
BEGIN:VEVENT
UID:5d6dddc5-0e09-4868-ac18-732c2b353e46
DTSTAMP:20260422T195852Z
DESCRIPTION:Our ages 0-4 monthly playgroups are expanding to include ages 5
 -13 as we visit local parks around Montgomery County. Bring some sunscreen
 \, water and your favorite outdoor activity and join us at the park!\n\nFo
 r more information about this event and to register\, click on the link be
 low!\n\n-----\n\nNuestros grupos de juego mensuales para edades de 0 a 4 a
 ños se están ampliando para incluir también a niños de 5 a 13 años mientra
 s visitamos parques locales alrededor del condado de Montgomery. ¡Trae pro
 tector solar\, agua y tu actividad favorita al aire libre y acompáñanos en
  el parque!\n\nPara obtener más información sobre este evento y registrart
 e\, ¡haz clic en el enlace a continuación!\n
DTSTART;TZID=America/New_York:20260502T100000
DTEND;TZID=America/New_York:20260502T120000
LOCATION:10901 Darnestown Road\, Gaithersburg\, MD 20878 US
SUMMARY:DSNMC Monthly Youth Meetup
END:VEVENT
END:VCALENDAR
