BEGIN:VCALENDAR
VERSION:2.0
PRODID:-//dsnmc.org//NONSGML kigkonsult.se iCalcreator 2.30.10//
CALSCALE:GREGORIAN
METHOD:PUBLISH
UID:d789af8d-d3d3-42fb-9f56-80ca7f277809
X-WR-CALDESC:For this month's Virtual Parent Connect we will be discussing 
 summer routines and plans. Best practices\, helpful thoughts and more. Com
 e and chat with other families!\n\nFor more information about this event\,
  click on the link below!\n\n----\n\nPara la sesión virtual de Parent Conn
 ect de este mes\, estaremos hablando sobre rutinas y planes de verano. Com
 partiremos mejores prácticas\, ideas útiles y más. ¡Ven a conversar con ot
 ras familias!\n\nPara obtener más información sobre este evento\, ¡haz cli
 c en el enlace a continuación!\n
X-WR-RELCALID:a665510e5d7fb1015180a03be05e67a8
X-WR-TIMEZONE:America/New_York
BEGIN:VTIMEZONE
TZID:America/New_York
BEGIN:STANDARD
TZNAME:EST
DTSTART:20251102T020000
TZOFFSETFROM:-0400
TZOFFSETTO:-0500
RDATE:20261101T020000
END:STANDARD
BEGIN:DAYLIGHT
TZNAME:EDT
DTSTART:20260308T020000
TZOFFSETFROM:-0500
TZOFFSETTO:-0400
RDATE:20270314T020000
END:DAYLIGHT
END:VTIMEZONE
BEGIN:VEVENT
UID:6b8b762f-d9ad-4799-aecf-662b16385ab5
DTSTAMP:20260422T200310Z
DESCRIPTION:For this month's Virtual Parent Connect we will be discussing s
 ummer routines and plans. Best practices\, helpful thoughts and more. Come
  and chat with other families!\n\nFor more information about this event\, 
 click on the link below!\n\n----\n\nPara la sesión virtual de Parent Conne
 ct de este mes\, estaremos hablando sobre rutinas y planes de verano. Comp
 artiremos mejores prácticas\, ideas útiles y más. ¡Ven a conversar con otr
 as familias!\n\nPara obtener más información sobre este evento\, ¡haz clic
  en el enlace a continuación!\n
DTSTART;TZID=America/New_York:20260504T190000
DTEND;TZID=America/New_York:20260504T200000
LOCATION:Zoom (Link Shared via Confirmation Email)
SUMMARY:Parent Connect with DSNMC
END:VEVENT
END:VCALENDAR
